BEGIN:VCALENDAR
VERSION:2.0
PRODID:-//JHP//We love PowerShell!//EN
BEGIN:VTIMEZONE
TZID:Europe/Berlin
X-LIC-LOCATION:Europe/Berlin
BEGIN:DAYLIGHT
TZOFFSETFROM:+0100
TZOFFSETTO:+0200
TZNAME:CEST
DTSTART:19700329T020000
RRULE:FREQ=YEARLY;INTERVAL=1;BYDAY=-1SU;BYMONTH=3
END:DAYLIGHT
BEGIN:STANDARD
TZOFFSETFROM:+0200
TZOFFSETTO:+0100
TZNAME:CET
DTSTART:19701025T030000
RRULE:FREQ=YEARLY;INTERVAL=1;BYDAY=-1SU;BYMONTH=10
END:STANDARD
END:VTIMEZONE
METHOD:PUBLISH
BEGIN:VEVENT
UID:fe0f6d98-ffc3-49ce-8cfe-7d5bbc7f1f10
CREATED:20260127T195432Z
DTSTAMP:20260127T195432Z
LAST-MODIFIED:20260127T195432Z
CLASS:Public
CATEGORIES:
SEQUENCE:0
DTSTART:20260226T183000Z
DTEND:20260226T203000Z
DESCRIPTION:http://feuerwehr-nirnharting.de
SUMMARY:FFN Übung - Gruppe Jugend - 2026
LOCATION:
TRANSP:
BEGIN:VALARM
ACTION:DISPLAY
TRIGGER:-PT60M
DESCRIPTION:Erinnerung
END:VALARM
END:VEVENT
BEGIN:VEVENT
UID:de410e04-a8c8-4b20-b207-474b72e1db15
CREATED:20260127T195432Z
DTSTAMP:20260127T195432Z
LAST-MODIFIED:20260127T195432Z
CLASS:Public
CATEGORIES:
SEQUENCE:0
DTSTART:20260319T183000Z
DTEND:20260319T203000Z
DESCRIPTION:http://feuerwehr-nirnharting.de
SUMMARY:FFN Übung - Gruppe Jugend - 2026
LOCATION:
TRANSP:
BEGIN:VALARM
ACTION:DISPLAY
TRIGGER:-PT60M
DESCRIPTION:Erinnerung
END:VALARM
END:VEVENT
BEGIN:VEVENT
UID:2b4df9bc-8379-4ece-9d4e-43399aa0196e
CREATED:20260127T195432Z
DTSTAMP:20260127T195432Z
LAST-MODIFIED:20260127T195432Z
CLASS:Public
CATEGORIES:
SEQUENCE:0
DTSTART:20260402T173000Z
DTEND:20260402T193000Z
DESCRIPTION:http://feuerwehr-nirnharting.de
SUMMARY:FFN Übung - Gruppe Jugend - 2026
LOCATION:
TRANSP:
BEGIN:VALARM
ACTION:DISPLAY
TRIGGER:-PT60M
DESCRIPTION:Erinnerung
END:VALARM
END:VEVENT
BEGIN:VEVENT
UID:8f403dac-b2cc-4b19-8688-b65831bf3605
CREATED:20260127T195432Z
DTSTAMP:20260127T195432Z
LAST-MODIFIED:20260127T195432Z
CLASS:Public
CATEGORIES:
SEQUENCE:0
DTSTART:20260423T173000Z
DTEND:20260423T193000Z
DESCRIPTION:http://feuerwehr-nirnharting.de
SUMMARY:FFN Übung - Gruppe Jugend - 2026
LOCATION:
TRANSP:
BEGIN:VALARM
ACTION:DISPLAY
TRIGGER:-PT60M
DESCRIPTION:Erinnerung
END:VALARM
END:VEVENT
BEGIN:VEVENT
UID:5386ec23-ff25-4816-8ada-ccee4c3c4797
CREATED:20260127T195432Z
DTSTAMP:20260127T195432Z
LAST-MODIFIED:20260127T195432Z
CLASS:Public
CATEGORIES:
SEQUENCE:0
DTSTART:20260507T173000Z
DTEND:20260507T193000Z
DESCRIPTION:http://feuerwehr-nirnharting.de
SUMMARY:FFN Übung - Gruppe Jugend - 2026
LOCATION:
TRANSP:
BEGIN:VALARM
ACTION:DISPLAY
TRIGGER:-PT60M
DESCRIPTION:Erinnerung
END:VALARM
END:VEVENT
BEGIN:VEVENT
UID:f52615d6-5f4d-4638-a280-a17ce9aca55a
CREATED:20260127T195432Z
DTSTAMP:20260127T195432Z
LAST-MODIFIED:20260127T195432Z
CLASS:Public
CATEGORIES:
SEQUENCE:0
DTSTART:20260521T173000Z
DTEND:20260521T193000Z
DESCRIPTION:http://feuerwehr-nirnharting.de
SUMMARY:FFN Übung - Gruppe Jugend - 2026
LOCATION:
TRANSP:
BEGIN:VALARM
ACTION:DISPLAY
TRIGGER:-PT60M
DESCRIPTION:Erinnerung
END:VALARM
END:VEVENT
BEGIN:VEVENT
UID:ff088dec-7a40-4ba7-8a23-04e3c03037a2
CREATED:20260127T195432Z
DTSTAMP:20260127T195432Z
LAST-MODIFIED:20260127T195432Z
CLASS:Public
CATEGORIES:
SEQUENCE:0
DTSTART:20260611T173000Z
DTEND:20260611T193000Z
DESCRIPTION:http://feuerwehr-nirnharting.de
SUMMARY:FFN Übung - Gruppe Jugend - 2026
LOCATION:
TRANSP:
BEGIN:VALARM
ACTION:DISPLAY
TRIGGER:-PT60M
DESCRIPTION:Erinnerung
END:VALARM
END:VEVENT
BEGIN:VEVENT
UID:974a7772-8ea0-481f-b96e-01be610c7619
CREATED:20260127T195432Z
DTSTAMP:20260127T195432Z
LAST-MODIFIED:20260127T195432Z
CLASS:Public
CATEGORIES:
SEQUENCE:0
DTSTART:20260625T173000Z
DTEND:20260625T193000Z
DESCRIPTION:http://feuerwehr-nirnharting.de
SUMMARY:FFN Übung - Gruppe Jugend - 2026
LOCATION:
TRANSP:
BEGIN:VALARM
ACTION:DISPLAY
TRIGGER:-PT60M
DESCRIPTION:Erinnerung
END:VALARM
END:VEVENT
BEGIN:VEVENT
UID:5af6d634-0b0e-4018-82df-0fe863c5c1d5
CREATED:20260127T195432Z
DTSTAMP:20260127T195432Z
LAST-MODIFIED:20260127T195432Z
CLASS:Public
CATEGORIES:
SEQUENCE:0
DTSTART:20260709T173000Z
DTEND:20260709T193000Z
DESCRIPTION:http://feuerwehr-nirnharting.de
SUMMARY:FFN Übung - Gruppe Jugend - 2026
LOCATION:
TRANSP:
BEGIN:VALARM
ACTION:DISPLAY
TRIGGER:-PT60M
DESCRIPTION:Erinnerung
END:VALARM
END:VEVENT
BEGIN:VEVENT
UID:8b49d4be-9f8f-438b-98ae-172e4142e909
CREATED:20260127T195432Z
DTSTAMP:20260127T195432Z
LAST-MODIFIED:20260127T195432Z
CLASS:Public
CATEGORIES:
SEQUENCE:0
DTSTART:20260718T173000Z
DTEND:20260718T193000Z
DESCRIPTION:http://feuerwehr-nirnharting.de
SUMMARY:FFN Übung - Gruppe Jugend - 2026
LOCATION:
TRANSP:
BEGIN:VALARM
ACTION:DISPLAY
TRIGGER:-PT60M
DESCRIPTION:Erinnerung
END:VALARM
END:VEVENT
BEGIN:VEVENT
UID:07b8b187-1868-42c4-adcf-577661f6b6cc
CREATED:20260127T195432Z
DTSTAMP:20260127T195432Z
LAST-MODIFIED:20260127T195432Z
CLASS:Public
CATEGORIES:
SEQUENCE:0
DTSTART:20260806T173000Z
DTEND:20260806T193000Z
DESCRIPTION:http://feuerwehr-nirnharting.de
SUMMARY:FFN Übung - Gruppe Jugend - 2026
LOCATION:
TRANSP:
BEGIN:VALARM
ACTION:DISPLAY
TRIGGER:-PT60M
DESCRIPTION:Erinnerung
END:VALARM
END:VEVENT
BEGIN:VEVENT
UID:101e2cad-7975-4c67-87b8-ce89eec3faa6
CREATED:20260127T195432Z
DTSTAMP:20260127T195432Z
LAST-MODIFIED:20260127T195432Z
CLASS:Public
CATEGORIES:
SEQUENCE:0
DTSTART:20260820T173000Z
DTEND:20260820T193000Z
DESCRIPTION:http://feuerwehr-nirnharting.de
SUMMARY:FFN Übung - Gruppe Jugend - 2026
LOCATION:
TRANSP:
BEGIN:VALARM
ACTION:DISPLAY
TRIGGER:-PT60M
DESCRIPTION:Erinnerung
END:VALARM
END:VEVENT
BEGIN:VEVENT
UID:379c1353-ba19-4199-a2a5-729dcf7890fc
CREATED:20260127T195432Z
DTSTAMP:20260127T195432Z
LAST-MODIFIED:20260127T195432Z
CLASS:Public
CATEGORIES:
SEQUENCE:0
DTSTART:20260903T173000Z
DTEND:20260903T193000Z
DESCRIPTION:http://feuerwehr-nirnharting.de
SUMMARY:FFN Übung - Gruppe Jugend - 2026
LOCATION:
TRANSP:
BEGIN:VALARM
ACTION:DISPLAY
TRIGGER:-PT60M
DESCRIPTION:Erinnerung
END:VALARM
END:VEVENT
BEGIN:VEVENT
UID:9b22c44e-db02-49b3-9510-a69322da98c6
CREATED:20260127T195432Z
DTSTAMP:20260127T195432Z
LAST-MODIFIED:20260127T195432Z
CLASS:Public
CATEGORIES:
SEQUENCE:0
DTSTART:20260917T173000Z
DTEND:20260917T193000Z
DESCRIPTION:http://feuerwehr-nirnharting.de
SUMMARY:FFN Übung - Gruppe Jugend - 2026
LOCATION:
TRANSP:
BEGIN:VALARM
ACTION:DISPLAY
TRIGGER:-PT60M
DESCRIPTION:Erinnerung
END:VALARM
END:VEVENT
BEGIN:VEVENT
UID:ff156447-16c8-42eb-8bee-d330861dcf67
CREATED:20260127T195432Z
DTSTAMP:20260127T195432Z
LAST-MODIFIED:20260127T195432Z
CLASS:Public
CATEGORIES:
SEQUENCE:0
DTSTART:20261008T173000Z
DTEND:20261008T193000Z
DESCRIPTION:http://feuerwehr-nirnharting.de
SUMMARY:FFN Übung - Gruppe Jugend - 2026
LOCATION:
TRANSP:
BEGIN:VALARM
ACTION:DISPLAY
TRIGGER:-PT60M
DESCRIPTION:Erinnerung
END:VALARM
END:VEVENT
BEGIN:VEVENT
UID:e6f4cfcf-bea0-4ce7-bdca-e610f8cb286d
CREATED:20260127T195432Z
DTSTAMP:20260127T195432Z
LAST-MODIFIED:20260127T195432Z
CLASS:Public
CATEGORIES:
SEQUENCE:0
DTSTART:20261022T173000Z
DTEND:20261022T193000Z
DESCRIPTION:http://feuerwehr-nirnharting.de
SUMMARY:FFN Übung - Gruppe Jugend - 2026
LOCATION:
TRANSP:
BEGIN:VALARM
ACTION:DISPLAY
TRIGGER:-PT60M
DESCRIPTION:Erinnerung
END:VALARM
END:VEVENT
BEGIN:VEVENT
UID:64163513-e616-46b4-b5dc-5eec69b089a1
CREATED:20260127T195432Z
DTSTAMP:20260127T195432Z
LAST-MODIFIED:20260127T195432Z
CLASS:Public
CATEGORIES:
SEQUENCE:0
DTSTART:20261026T183000Z
DTEND:20261026T203000Z
DESCRIPTION:http://feuerwehr-nirnharting.de
SUMMARY:FFN Übung - Gruppe Jugend - 2026
LOCATION:
TRANSP:
BEGIN:VALARM
ACTION:DISPLAY
TRIGGER:-PT60M
DESCRIPTION:Erinnerung
END:VALARM
END:VEVENT
BEGIN:VEVENT
UID:b4f671f1-b7f7-40a4-8059-d1d818d5a719
CREATED:20260127T195432Z
DTSTAMP:20260127T195432Z
LAST-MODIFIED:20260127T195432Z
CLASS:Public
CATEGORIES:
SEQUENCE:0
DTSTART:20261105T183000Z
DTEND:20261105T203000Z
DESCRIPTION:http://feuerwehr-nirnharting.de
SUMMARY:FFN Übung - Gruppe Jugend - 2026
LOCATION:
TRANSP:
BEGIN:VALARM
ACTION:DISPLAY
TRIGGER:-PT60M
DESCRIPTION:Erinnerung
END:VALARM
END:VEVENT
BEGIN:VEVENT
UID:a1848894-dec1-4f28-924b-8d8b006ea781
CREATED:20260127T195432Z
DTSTAMP:20260127T195432Z
LAST-MODIFIED:20260127T195432Z
CLASS:Public
CATEGORIES:
SEQUENCE:0
DTSTART:20261204T183000Z
DTEND:20261204T203000Z
DESCRIPTION:http://feuerwehr-nirnharting.de
SUMMARY:FFN Übung - Gruppe Jugend - 2026
LOCATION:
TRANSP:
BEGIN:VALARM
ACTION:DISPLAY
TRIGGER:-PT60M
DESCRIPTION:Erinnerung
END:VALARM
END:VEVENT
END:VCALENDAR
