BEGIN:VCALENDAR
VERSION:2.0
PRODID:-//JHP//We love PowerShell!//EN
BEGIN:VTIMEZONE
TZID:Europe/Berlin
X-LIC-LOCATION:Europe/Berlin
BEGIN:DAYLIGHT
TZOFFSETFROM:+0100
TZOFFSETTO:+0200
TZNAME:CEST
DTSTART:19700329T020000
RRULE:FREQ=YEARLY;INTERVAL=1;BYDAY=-1SU;BYMONTH=3
END:DAYLIGHT
BEGIN:STANDARD
TZOFFSETFROM:+0200
TZOFFSETTO:+0100
TZNAME:CET
DTSTART:19701025T030000
RRULE:FREQ=YEARLY;INTERVAL=1;BYDAY=-1SU;BYMONTH=10
END:STANDARD
END:VTIMEZONE
METHOD:PUBLISH
BEGIN:VEVENT
UID:8aa8b7f2-85b9-4e2d-aef8-8c491768ef7c
CREATED:20260127T180024Z
DTSTAMP:20260127T180024Z
LAST-MODIFIED:20260127T180024Z
CLASS:Public
CATEGORIES:
SEQUENCE:0
DTSTART:20260216T183000Z
DTEND:20260216T203000Z
DESCRIPTION:http://feuerwehr-nirnharting.de
SUMMARY:FFN Übung - Gruppe 3 - 2026
LOCATION:
TRANSP:
BEGIN:VALARM
ACTION:DISPLAY
TRIGGER:-PT60M
DESCRIPTION:Erinnerung
END:VALARM
END:VEVENT
BEGIN:VEVENT
UID:a2a2d031-0eb9-4b0e-9963-d50d307576e8
CREATED:20260127T180024Z
DTSTAMP:20260127T180024Z
LAST-MODIFIED:20260127T180024Z
CLASS:Public
CATEGORIES:
SEQUENCE:0
DTSTART:20260316T183000Z
DTEND:20260316T203000Z
DESCRIPTION:http://feuerwehr-nirnharting.de
SUMMARY:FFN Übung - Gruppe 3 - 2026
LOCATION:
TRANSP:
BEGIN:VALARM
ACTION:DISPLAY
TRIGGER:-PT60M
DESCRIPTION:Erinnerung
END:VALARM
END:VEVENT
BEGIN:VEVENT
UID:342098a7-8800-45c8-a8a0-4b935be8df70
CREATED:20260127T180024Z
DTSTAMP:20260127T180024Z
LAST-MODIFIED:20260127T180024Z
CLASS:Public
CATEGORIES:
SEQUENCE:0
DTSTART:20260420T173000Z
DTEND:20260420T193000Z
DESCRIPTION:http://feuerwehr-nirnharting.de
SUMMARY:FFN Übung - Gruppe 3 - 2026
LOCATION:
TRANSP:
BEGIN:VALARM
ACTION:DISPLAY
TRIGGER:-PT60M
DESCRIPTION:Erinnerung
END:VALARM
END:VEVENT
BEGIN:VEVENT
UID:05ac1ae7-6679-4a52-9a73-1161b4dde316
CREATED:20260127T180024Z
DTSTAMP:20260127T180024Z
LAST-MODIFIED:20260127T180024Z
CLASS:Public
CATEGORIES:
SEQUENCE:0
DTSTART:20260518T173000Z
DTEND:20260518T193000Z
DESCRIPTION:http://feuerwehr-nirnharting.de
SUMMARY:FFN Übung - Gruppe 3 - 2026
LOCATION:
TRANSP:
BEGIN:VALARM
ACTION:DISPLAY
TRIGGER:-PT60M
DESCRIPTION:Erinnerung
END:VALARM
END:VEVENT
BEGIN:VEVENT
UID:fbd1121f-f7ce-4672-9626-555852713d7d
CREATED:20260127T180024Z
DTSTAMP:20260127T180024Z
LAST-MODIFIED:20260127T180024Z
CLASS:Public
CATEGORIES:
SEQUENCE:0
DTSTART:20260615T173000Z
DTEND:20260615T193000Z
DESCRIPTION:http://feuerwehr-nirnharting.de
SUMMARY:FFN Übung - Gruppe 3 - 2026
LOCATION:
TRANSP:
BEGIN:VALARM
ACTION:DISPLAY
TRIGGER:-PT60M
DESCRIPTION:Erinnerung
END:VALARM
END:VEVENT
BEGIN:VEVENT
UID:861bf1e3-69d3-4b0e-a33b-acc77eca68b9
CREATED:20260127T180024Z
DTSTAMP:20260127T180024Z
LAST-MODIFIED:20260127T180024Z
CLASS:Public
CATEGORIES:
SEQUENCE:0
DTSTART:20260720T173000Z
DTEND:20260720T193000Z
DESCRIPTION:http://feuerwehr-nirnharting.de
SUMMARY:FFN Übung - Gruppe 3 - 2026
LOCATION:
TRANSP:
BEGIN:VALARM
ACTION:DISPLAY
TRIGGER:-PT60M
DESCRIPTION:Erinnerung
END:VALARM
END:VEVENT
BEGIN:VEVENT
UID:7afadcaf-a56e-47ab-867f-f22c75ee2bd8
CREATED:20260127T180024Z
DTSTAMP:20260127T180024Z
LAST-MODIFIED:20260127T180024Z
CLASS:Public
CATEGORIES:
SEQUENCE:0
DTSTART:20260817T173000Z
DTEND:20260817T193000Z
DESCRIPTION:http://feuerwehr-nirnharting.de
SUMMARY:FFN Übung - Gruppe 3 - 2026
LOCATION:
TRANSP:
BEGIN:VALARM
ACTION:DISPLAY
TRIGGER:-PT60M
DESCRIPTION:Erinnerung
END:VALARM
END:VEVENT
BEGIN:VEVENT
UID:213805f8-bec2-4433-92ba-9edfc0b2f15d
CREATED:20260127T180024Z
DTSTAMP:20260127T180024Z
LAST-MODIFIED:20260127T180024Z
CLASS:Public
CATEGORIES:
SEQUENCE:0
DTSTART:20260921T173000Z
DTEND:20260921T193000Z
DESCRIPTION:http://feuerwehr-nirnharting.de
SUMMARY:FFN Übung - Gruppe 3 - 2026
LOCATION:
TRANSP:
BEGIN:VALARM
ACTION:DISPLAY
TRIGGER:-PT60M
DESCRIPTION:Erinnerung
END:VALARM
END:VEVENT
BEGIN:VEVENT
UID:3ba5b0ff-437c-4370-85ba-cb519f495111
CREATED:20260127T180024Z
DTSTAMP:20260127T180024Z
LAST-MODIFIED:20260127T180024Z
CLASS:Public
CATEGORIES:
SEQUENCE:0
DTSTART:20261019T173000Z
DTEND:20261019T193000Z
DESCRIPTION:http://feuerwehr-nirnharting.de
SUMMARY:FFN Übung - Gruppe 3 - 2026
LOCATION:
TRANSP:
BEGIN:VALARM
ACTION:DISPLAY
TRIGGER:-PT60M
DESCRIPTION:Erinnerung
END:VALARM
END:VEVENT
BEGIN:VEVENT
UID:7f7b0caf-b3c3-4254-9fc6-962434460130
CREATED:20260127T180024Z
DTSTAMP:20260127T180024Z
LAST-MODIFIED:20260127T180024Z
CLASS:Public
CATEGORIES:
SEQUENCE:0
DTSTART:20261102T183000Z
DTEND:20261102T203000Z
DESCRIPTION:http://feuerwehr-nirnharting.de
SUMMARY:FFN Übung - Gruppe 3 - 2026
LOCATION:
TRANSP:
BEGIN:VALARM
ACTION:DISPLAY
TRIGGER:-PT60M
DESCRIPTION:Erinnerung
END:VALARM
END:VEVENT
BEGIN:VEVENT
UID:f201f676-0f3d-4a49-ae64-903fec61ada8
CREATED:20260127T180024Z
DTSTAMP:20260127T180024Z
LAST-MODIFIED:20260127T180024Z
CLASS:Public
CATEGORIES:
SEQUENCE:0
DTSTART:20261221T183000Z
DTEND:20261221T203000Z
DESCRIPTION:http://feuerwehr-nirnharting.de
SUMMARY:FFN Übung - Gruppe 3 - 2026
LOCATION:
TRANSP:
BEGIN:VALARM
ACTION:DISPLAY
TRIGGER:-PT60M
DESCRIPTION:Erinnerung
END:VALARM
END:VEVENT
END:VCALENDAR
