BEGIN:VCALENDAR
VERSION:2.0
PRODID:-//JHP//We love PowerShell!//EN
BEGIN:VTIMEZONE
TZID:Europe/Berlin
X-LIC-LOCATION:Europe/Berlin
BEGIN:DAYLIGHT
TZOFFSETFROM:+0100
TZOFFSETTO:+0200
TZNAME:CEST
DTSTART:19700329T020000
RRULE:FREQ=YEARLY;INTERVAL=1;BYDAY=-1SU;BYMONTH=3
END:DAYLIGHT
BEGIN:STANDARD
TZOFFSETFROM:+0200
TZOFFSETTO:+0100
TZNAME:CET
DTSTART:19701025T030000
RRULE:FREQ=YEARLY;INTERVAL=1;BYDAY=-1SU;BYMONTH=10
END:STANDARD
END:VTIMEZONE
METHOD:PUBLISH
BEGIN:VEVENT
UID:6ace8cd2-56d4-4521-b1ef-96bdfd397f31
CREATED:20260127T175959Z
DTSTAMP:20260127T175959Z
LAST-MODIFIED:20260127T175959Z
CLASS:Public
CATEGORIES:
SEQUENCE:0
DTSTART:20260211T183000Z
DTEND:20260211T203000Z
DESCRIPTION:http://feuerwehr-nirnharting.de
SUMMARY:FFN Übung - Gruppe 2 - 2026
LOCATION:
TRANSP:
BEGIN:VALARM
ACTION:DISPLAY
TRIGGER:-PT60M
DESCRIPTION:Erinnerung
END:VALARM
END:VEVENT
BEGIN:VEVENT
UID:310c1089-82f3-4bb9-b9b6-5845a7198093
CREATED:20260127T175959Z
DTSTAMP:20260127T175959Z
LAST-MODIFIED:20260127T175959Z
CLASS:Public
CATEGORIES:
SEQUENCE:0
DTSTART:20260311T183000Z
DTEND:20260311T203000Z
DESCRIPTION:http://feuerwehr-nirnharting.de
SUMMARY:FFN Übung - Gruppe 2 - 2026
LOCATION:
TRANSP:
BEGIN:VALARM
ACTION:DISPLAY
TRIGGER:-PT60M
DESCRIPTION:Erinnerung
END:VALARM
END:VEVENT
BEGIN:VEVENT
UID:91f30f02-ea61-47f4-8a0b-cd3963254f7e
CREATED:20260127T175959Z
DTSTAMP:20260127T175959Z
LAST-MODIFIED:20260127T175959Z
CLASS:Public
CATEGORIES:
SEQUENCE:0
DTSTART:20260408T173000Z
DTEND:20260408T193000Z
DESCRIPTION:http://feuerwehr-nirnharting.de
SUMMARY:FFN Übung - Gruppe 2 - 2026
LOCATION:
TRANSP:
BEGIN:VALARM
ACTION:DISPLAY
TRIGGER:-PT60M
DESCRIPTION:Erinnerung
END:VALARM
END:VEVENT
BEGIN:VEVENT
UID:a3e589ed-eb95-41dd-b1d9-b8f8f60b4608
CREATED:20260127T175959Z
DTSTAMP:20260127T175959Z
LAST-MODIFIED:20260127T175959Z
CLASS:Public
CATEGORIES:
SEQUENCE:0
DTSTART:20260513T173000Z
DTEND:20260513T193000Z
DESCRIPTION:http://feuerwehr-nirnharting.de
SUMMARY:FFN Übung - Gruppe 2 - 2026
LOCATION:
TRANSP:
BEGIN:VALARM
ACTION:DISPLAY
TRIGGER:-PT60M
DESCRIPTION:Erinnerung
END:VALARM
END:VEVENT
BEGIN:VEVENT
UID:91366385-6adb-4c76-8335-1048052af042
CREATED:20260127T175959Z
DTSTAMP:20260127T175959Z
LAST-MODIFIED:20260127T175959Z
CLASS:Public
CATEGORIES:
SEQUENCE:0
DTSTART:20260610T173000Z
DTEND:20260610T193000Z
DESCRIPTION:http://feuerwehr-nirnharting.de
SUMMARY:FFN Übung - Gruppe 2 - 2026
LOCATION:
TRANSP:
BEGIN:VALARM
ACTION:DISPLAY
TRIGGER:-PT60M
DESCRIPTION:Erinnerung
END:VALARM
END:VEVENT
BEGIN:VEVENT
UID:52649e8f-2aa0-4efc-afb7-c043ba8c2728
CREATED:20260127T175959Z
DTSTAMP:20260127T175959Z
LAST-MODIFIED:20260127T175959Z
CLASS:Public
CATEGORIES:
SEQUENCE:0
DTSTART:20260708T173000Z
DTEND:20260708T193000Z
DESCRIPTION:http://feuerwehr-nirnharting.de
SUMMARY:FFN Übung - Gruppe 2 - 2026
LOCATION:
TRANSP:
BEGIN:VALARM
ACTION:DISPLAY
TRIGGER:-PT60M
DESCRIPTION:Erinnerung
END:VALARM
END:VEVENT
BEGIN:VEVENT
UID:050bee3f-1a9b-4f6c-a395-6d840f42e2c4
CREATED:20260127T175959Z
DTSTAMP:20260127T175959Z
LAST-MODIFIED:20260127T175959Z
CLASS:Public
CATEGORIES:
SEQUENCE:0
DTSTART:20260812T173000Z
DTEND:20260812T193000Z
DESCRIPTION:http://feuerwehr-nirnharting.de
SUMMARY:FFN Übung - Gruppe 2 - 2026
LOCATION:
TRANSP:
BEGIN:VALARM
ACTION:DISPLAY
TRIGGER:-PT60M
DESCRIPTION:Erinnerung
END:VALARM
END:VEVENT
BEGIN:VEVENT
UID:bfaf06c0-0000-4ff2-90b5-ee4613ba8fbd
CREATED:20260127T175959Z
DTSTAMP:20260127T175959Z
LAST-MODIFIED:20260127T175959Z
CLASS:Public
CATEGORIES:
SEQUENCE:0
DTSTART:20260909T173000Z
DTEND:20260909T193000Z
DESCRIPTION:http://feuerwehr-nirnharting.de
SUMMARY:FFN Übung - Gruppe 2 - 2026
LOCATION:
TRANSP:
BEGIN:VALARM
ACTION:DISPLAY
TRIGGER:-PT60M
DESCRIPTION:Erinnerung
END:VALARM
END:VEVENT
BEGIN:VEVENT
UID:82fbc0c4-d2d8-4822-8aaf-fc320482c8af
CREATED:20260127T175959Z
DTSTAMP:20260127T175959Z
LAST-MODIFIED:20260127T175959Z
CLASS:Public
CATEGORIES:
SEQUENCE:0
DTSTART:20261014T173000Z
DTEND:20261014T193000Z
DESCRIPTION:http://feuerwehr-nirnharting.de
SUMMARY:FFN Übung - Gruppe 2 - 2026
LOCATION:
TRANSP:
BEGIN:VALARM
ACTION:DISPLAY
TRIGGER:-PT60M
DESCRIPTION:Erinnerung
END:VALARM
END:VEVENT
BEGIN:VEVENT
UID:4b19c680-9b13-4d12-b5c8-2327217875b2
CREATED:20260127T175959Z
DTSTAMP:20260127T175959Z
LAST-MODIFIED:20260127T175959Z
CLASS:Public
CATEGORIES:
SEQUENCE:0
DTSTART:20261111T183000Z
DTEND:20261111T203000Z
DESCRIPTION:http://feuerwehr-nirnharting.de
SUMMARY:FFN Übung - Gruppe 2 - 2026
LOCATION:
TRANSP:
BEGIN:VALARM
ACTION:DISPLAY
TRIGGER:-PT60M
DESCRIPTION:Erinnerung
END:VALARM
END:VEVENT
BEGIN:VEVENT
UID:2000a869-c591-4973-800a-87100e477b96
CREATED:20260127T175959Z
DTSTAMP:20260127T175959Z
LAST-MODIFIED:20260127T175959Z
CLASS:Public
CATEGORIES:
SEQUENCE:0
DTSTART:20261209T183000Z
DTEND:20261209T203000Z
DESCRIPTION:http://feuerwehr-nirnharting.de
SUMMARY:FFN Übung - Gruppe 2 - 2026
LOCATION:
TRANSP:
BEGIN:VALARM
ACTION:DISPLAY
TRIGGER:-PT60M
DESCRIPTION:Erinnerung
END:VALARM
END:VEVENT
END:VCALENDAR
