BEGIN:VCALENDAR
VERSION:2.0
PRODID:-//JHP//We love PowerShell!//EN
BEGIN:VTIMEZONE
TZID:Europe/Berlin
X-LIC-LOCATION:Europe/Berlin
BEGIN:DAYLIGHT
TZOFFSETFROM:+0100
TZOFFSETTO:+0200
TZNAME:CEST
DTSTART:19700329T020000
RRULE:FREQ=YEARLY;INTERVAL=1;BYDAY=-1SU;BYMONTH=3
END:DAYLIGHT
BEGIN:STANDARD
TZOFFSETFROM:+0200
TZOFFSETTO:+0100
TZNAME:CET
DTSTART:19701025T030000
RRULE:FREQ=YEARLY;INTERVAL=1;BYDAY=-1SU;BYMONTH=10
END:STANDARD
END:VTIMEZONE
METHOD:PUBLISH
BEGIN:VEVENT
UID:7ef8f7dd-87a3-406f-965c-9f5ff1caa0d5
CREATED:20260127T180051Z
DTSTAMP:20260127T180051Z
LAST-MODIFIED:20260127T180051Z
CLASS:Public
CATEGORIES:
SEQUENCE:0
DTSTART:20260202T183000Z
DTEND:20260202T203000Z
DESCRIPTION:http://feuerwehr-nirnharting.de
SUMMARY:FFN Übung - Gruppe 1 - 2026
LOCATION:
TRANSP:
BEGIN:VALARM
ACTION:DISPLAY
TRIGGER:-PT60M
DESCRIPTION:Erinnerung
END:VALARM
END:VEVENT
BEGIN:VEVENT
UID:2d387c53-6765-41fa-b746-046d5a866039
CREATED:20260127T180051Z
DTSTAMP:20260127T180051Z
LAST-MODIFIED:20260127T180051Z
CLASS:Public
CATEGORIES:
SEQUENCE:0
DTSTART:20260302T183000Z
DTEND:20260302T203000Z
DESCRIPTION:http://feuerwehr-nirnharting.de
SUMMARY:FFN Übung - Gruppe 1 - 2026
LOCATION:
TRANSP:
BEGIN:VALARM
ACTION:DISPLAY
TRIGGER:-PT60M
DESCRIPTION:Erinnerung
END:VALARM
END:VEVENT
BEGIN:VEVENT
UID:c4775945-f0d5-4bef-8c9e-df4514d750b5
CREATED:20260127T180051Z
DTSTAMP:20260127T180051Z
LAST-MODIFIED:20260127T180051Z
CLASS:Public
CATEGORIES:
SEQUENCE:0
DTSTART:20260413T173000Z
DTEND:20260413T193000Z
DESCRIPTION:http://feuerwehr-nirnharting.de
SUMMARY:FFN Übung - Gruppe 1 - 2026
LOCATION:
TRANSP:
BEGIN:VALARM
ACTION:DISPLAY
TRIGGER:-PT60M
DESCRIPTION:Erinnerung
END:VALARM
END:VEVENT
BEGIN:VEVENT
UID:dc6553ca-b231-4921-8f3f-1dc837e7827d
CREATED:20260127T180051Z
DTSTAMP:20260127T180051Z
LAST-MODIFIED:20260127T180051Z
CLASS:Public
CATEGORIES:
SEQUENCE:0
DTSTART:20260504T173000Z
DTEND:20260504T193000Z
DESCRIPTION:http://feuerwehr-nirnharting.de
SUMMARY:FFN Übung - Gruppe 1 - 2026
LOCATION:
TRANSP:
BEGIN:VALARM
ACTION:DISPLAY
TRIGGER:-PT60M
DESCRIPTION:Erinnerung
END:VALARM
END:VEVENT
BEGIN:VEVENT
UID:7f6fbb38-d551-400b-b9c9-ec186d4567cd
CREATED:20260127T180051Z
DTSTAMP:20260127T180051Z
LAST-MODIFIED:20260127T180051Z
CLASS:Public
CATEGORIES:
SEQUENCE:0
DTSTART:20260601T173000Z
DTEND:20260601T193000Z
DESCRIPTION:http://feuerwehr-nirnharting.de
SUMMARY:FFN Übung - Gruppe 1 - 2026
LOCATION:
TRANSP:
BEGIN:VALARM
ACTION:DISPLAY
TRIGGER:-PT60M
DESCRIPTION:Erinnerung
END:VALARM
END:VEVENT
BEGIN:VEVENT
UID:a460ac72-929e-488f-a5bb-94b8dc9c295c
CREATED:20260127T180051Z
DTSTAMP:20260127T180051Z
LAST-MODIFIED:20260127T180051Z
CLASS:Public
CATEGORIES:
SEQUENCE:0
DTSTART:20260706T173000Z
DTEND:20260706T193000Z
DESCRIPTION:http://feuerwehr-nirnharting.de
SUMMARY:FFN Übung - Gruppe 1 - 2026
LOCATION:
TRANSP:
BEGIN:VALARM
ACTION:DISPLAY
TRIGGER:-PT60M
DESCRIPTION:Erinnerung
END:VALARM
END:VEVENT
BEGIN:VEVENT
UID:dba53c87-5d5c-40b4-98a2-d3f7f2889f32
CREATED:20260127T180051Z
DTSTAMP:20260127T180051Z
LAST-MODIFIED:20260127T180051Z
CLASS:Public
CATEGORIES:
SEQUENCE:0
DTSTART:20260803T173000Z
DTEND:20260803T193000Z
DESCRIPTION:http://feuerwehr-nirnharting.de
SUMMARY:FFN Übung - Gruppe 1 - 2026
LOCATION:
TRANSP:
BEGIN:VALARM
ACTION:DISPLAY
TRIGGER:-PT60M
DESCRIPTION:Erinnerung
END:VALARM
END:VEVENT
BEGIN:VEVENT
UID:2e8a88d3-1250-4126-8b0e-70490c4ad04b
CREATED:20260127T180051Z
DTSTAMP:20260127T180051Z
LAST-MODIFIED:20260127T180051Z
CLASS:Public
CATEGORIES:
SEQUENCE:0
DTSTART:20260907T173000Z
DTEND:20260907T193000Z
DESCRIPTION:http://feuerwehr-nirnharting.de
SUMMARY:FFN Übung - Gruppe 1 - 2026
LOCATION:
TRANSP:
BEGIN:VALARM
ACTION:DISPLAY
TRIGGER:-PT60M
DESCRIPTION:Erinnerung
END:VALARM
END:VEVENT
BEGIN:VEVENT
UID:e4c29a6d-b7c2-478e-8fd0-fb02adeb708f
CREATED:20260127T180051Z
DTSTAMP:20260127T180051Z
LAST-MODIFIED:20260127T180051Z
CLASS:Public
CATEGORIES:
SEQUENCE:0
DTSTART:20261005T173000Z
DTEND:20261005T193000Z
DESCRIPTION:http://feuerwehr-nirnharting.de
SUMMARY:FFN Übung - Gruppe 1 - 2026
LOCATION:
TRANSP:
BEGIN:VALARM
ACTION:DISPLAY
TRIGGER:-PT60M
DESCRIPTION:Erinnerung
END:VALARM
END:VEVENT
BEGIN:VEVENT
UID:79271494-e0a0-4b16-8049-0df3ed1e2b43
CREATED:20260127T180051Z
DTSTAMP:20260127T180051Z
LAST-MODIFIED:20260127T180051Z
CLASS:Public
CATEGORIES:
SEQUENCE:0
DTSTART:20261102T183000Z
DTEND:20261102T203000Z
DESCRIPTION:http://feuerwehr-nirnharting.de
SUMMARY:FFN Übung - Gruppe 1 - 2026
LOCATION:
TRANSP:
BEGIN:VALARM
ACTION:DISPLAY
TRIGGER:-PT60M
DESCRIPTION:Erinnerung
END:VALARM
END:VEVENT
BEGIN:VEVENT
UID:f3c5b320-5d67-4c66-a27d-32774481b21d
CREATED:20260127T180051Z
DTSTAMP:20260127T180051Z
LAST-MODIFIED:20260127T180051Z
CLASS:Public
CATEGORIES:
SEQUENCE:0
DTSTART:20261209T183000Z
DTEND:20261209T203000Z
DESCRIPTION:http://feuerwehr-nirnharting.de
SUMMARY:FFN Übung - Gruppe 1 - 2026
LOCATION:
TRANSP:
BEGIN:VALARM
ACTION:DISPLAY
TRIGGER:-PT60M
DESCRIPTION:Erinnerung
END:VALARM
END:VEVENT
END:VCALENDAR
