BEGIN:VCALENDAR
VERSION:2.0
PRODID:-//JHP//We love PowerShell!//EN
BEGIN:VTIMEZONE
TZID:Europe/Berlin
X-LIC-LOCATION:Europe/Berlin
BEGIN:DAYLIGHT
TZOFFSETFROM:+0100
TZOFFSETTO:+0200
TZNAME:CEST
DTSTART:19700329T020000
RRULE:FREQ=YEARLY;INTERVAL=1;BYDAY=-1SU;BYMONTH=3
END:DAYLIGHT
BEGIN:STANDARD
TZOFFSETFROM:+0200
TZOFFSETTO:+0100
TZNAME:CET
DTSTART:19701025T030000
RRULE:FREQ=YEARLY;INTERVAL=1;BYDAY=-1SU;BYMONTH=10
END:STANDARD
END:VTIMEZONE
METHOD:PUBLISH
BEGIN:VEVENT
UID:5979ea03-4c7f-4251-9cb4-990c569f9305
CREATED:20260127T175719Z
DTSTAMP:20260127T175719Z
LAST-MODIFIED:20260127T175719Z
CLASS:Public
CATEGORIES:
SEQUENCE:0
DTSTART:20260420T173000Z
DTEND:20260420T193000Z
DESCRIPTION:http://feuerwehr-nirnharting.de
SUMMARY:FFN - Übung für alle Maschinisten - 2026
LOCATION:
TRANSP:
BEGIN:VALARM
ACTION:DISPLAY
TRIGGER:-PT60M
DESCRIPTION:Erinnerung
END:VALARM
END:VEVENT
END:VCALENDAR
